BEGIN:VCALENDAR
VERSION:2.0
PRODID:-//Vinci Condomini - ECPv6.8.1//NONSGML v1.0//EN
CALSCALE:GREGORIAN
METHOD:PUBLISH
X-WR-CALNAME:Vinci Condomini
X-ORIGINAL-URL:https://vincicondomini.it
X-WR-CALDESC:Eventi per Vinci Condomini
REFRESH-INTERVAL;VALUE=DURATION:PT1H
X-Robots-Tag:noindex
X-PUBLISHED-TTL:PT1H
BEGIN:VTIMEZONE
TZID:Europe/Rome
BEGIN:DAYLIGHT
TZOFFSETFROM:+0100
TZOFFSETTO:+0200
TZNAME:CEST
DTSTART:20250330T010000
END:DAYLIGHT
BEGIN:STANDARD
TZOFFSETFROM:+0200
TZOFFSETTO:+0100
TZNAME:CET
DTSTART:20251026T010000
END:STANDARD
END:VTIMEZONE
BEGIN:VEVENT
DTSTART;TZID=Europe/Rome:20250519T173000
DTEND;TZID=Europe/Rome:20250519T173000
DTSTAMP:20260425T050002
CREATED:20250506T103335Z
LAST-MODIFIED:20250506T103335Z
UID:4095-1747675800-1747675800@vincicondomini.it
SUMMARY:Cond. GOLDEN RESIDENCE: Assemblea ordinaria
DESCRIPTION:I Signori Condomini sono invitati all’ Assemblea Ordinaria Condominio che si terrà il giorno: \nprima convocazione: domenica 18/05/2025 alle ore 13.00\nSECONDA CONVOCAZIONE: LUNEDì 19/05/2025 ALLE ORE 17.30 \nPresso lo Studio Vinci in Vicolo Delle Saline 7/i\, Marsala.
URL:https://vincicondomini.it/convocazione/cond-golden-residence-assemblea-ordinaria-4/
LOCATION:Studio Vinci\, Vicolo Delle Saline 7/ì\, Marsala\, Italia
END:VEVENT
END:VCALENDAR