BEGIN:VCALENDAR
VERSION:2.0
PRODID:-//Vinci Condomini - ECPv6.8.1//NONSGML v1.0//EN
CALSCALE:GREGORIAN
METHOD:PUBLISH
X-ORIGINAL-URL:https://vincicondomini.it
X-WR-CALDESC:Eventi per Vinci Condomini
REFRESH-INTERVAL;VALUE=DURATION:PT1H
X-Robots-Tag:noindex
X-PUBLISHED-TTL:PT1H
BEGIN:VTIMEZONE
TZID:Europe/Rome
BEGIN:DAYLIGHT
TZOFFSETFROM:+0100
TZOFFSETTO:+0200
TZNAME:CEST
DTSTART:20250330T010000
END:DAYLIGHT
BEGIN:STANDARD
TZOFFSETFROM:+0200
TZOFFSETTO:+0100
TZNAME:CET
DTSTART:20251026T010000
END:STANDARD
END:VTIMEZONE
BEGIN:VEVENT
DTSTART;TZID=Europe/Rome:20250523T170000
DTEND;TZID=Europe/Rome:20250523T170000
DTSTAMP:20260425T050611
CREATED:20250512T162520Z
LAST-MODIFIED:20250512T162520Z
UID:4101-1748019600-1748019600@vincicondomini.it
SUMMARY:Cond. IL FARO 31/35: Assemblea Ordinaria
DESCRIPTION:I Signori Condomini sono invitati all’ Assemblea Ordinaria Condominio che si terrà il giorno: \nprima convocazione: giovedì 22/05/2025 alle ore 13.00\nSECONDA CONVOCAZIONE: VENERDì 23/05/2025 ALLE ORE 17.00 \nPresso lo Studio Vinci in Vicolo Delle Saline 7/i\, Marsala.
URL:https://vincicondomini.it/convocazione/cond-il-faro-31-35-assemblea-ordinaria-3/
LOCATION:Studio Vinci\, Vicolo Delle Saline 7/ì\, Marsala\, Italia
END:VEVENT
END:VCALENDAR