BEGIN:VCALENDAR
VERSION:2.0
PRODID:-//Vinci Condomini - ECPv6.8.1//NONSGML v1.0//EN
CALSCALE:GREGORIAN
METHOD:PUBLISH
X-WR-CALNAME:Vinci Condomini
X-ORIGINAL-URL:https://vincicondomini.it
X-WR-CALDESC:Eventi per Vinci Condomini
REFRESH-INTERVAL;VALUE=DURATION:PT1H
X-Robots-Tag:noindex
X-PUBLISHED-TTL:PT1H
BEGIN:VTIMEZONE
TZID:Europe/Rome
BEGIN:DAYLIGHT
TZOFFSETFROM:+0100
TZOFFSETTO:+0200
TZNAME:CEST
DTSTART:20250330T010000
END:DAYLIGHT
BEGIN:STANDARD
TZOFFSETFROM:+0200
TZOFFSETTO:+0100
TZNAME:CET
DTSTART:20251026T010000
END:STANDARD
END:VTIMEZONE
BEGIN:VEVENT
DTSTART;TZID=Europe/Rome:20250929T173000
DTEND;TZID=Europe/Rome:20250929T173000
DTSTAMP:20260424T180352
CREATED:20250922T074940Z
LAST-MODIFIED:20250922T074940Z
UID:4230-1759167000-1759167000@vincicondomini.it
SUMMARY:Cond. TORRE SANCES: Assemblea Straordinaria
DESCRIPTION:I Signori Condomini sono invitati all’ Assemblea Straordinaria Condominio che si terrà il giorno: \nprima convocazione: giovedì 25/09/2025 alle ore 13.00\nSECONDA CONVOCAZIONE: VENERDì 26/09/2025 ALLE ORE 17.00 \nPresso la piattaforma online CISCO WEBEX.
URL:https://vincicondomini.it/convocazione/cond-torre-sances-assemblea-straordinaria-2/
LOCATION:CISCO WEBEX
END:VEVENT
END:VCALENDAR