BEGIN:VCALENDAR
VERSION:2.0
PRODID:-//Vinci Condomini - ECPv6.8.1//NONSGML v1.0//EN
CALSCALE:GREGORIAN
METHOD:PUBLISH
X-WR-CALNAME:Vinci Condomini
X-ORIGINAL-URL:https://vincicondomini.it
X-WR-CALDESC:Eventi per Vinci Condomini
REFRESH-INTERVAL;VALUE=DURATION:PT1H
X-Robots-Tag:noindex
X-PUBLISHED-TTL:PT1H
BEGIN:VTIMEZONE
TZID:Europe/Rome
BEGIN:DAYLIGHT
TZOFFSETFROM:+0100
TZOFFSETTO:+0200
TZNAME:CEST
DTSTART:20250330T010000
END:DAYLIGHT
BEGIN:STANDARD
TZOFFSETFROM:+0200
TZOFFSETTO:+0100
TZNAME:CET
DTSTART:20251026T010000
END:STANDARD
END:VTIMEZONE
BEGIN:VEVENT
DTSTART;TZID=Europe/Rome:20251128T170000
DTEND;TZID=Europe/Rome:20251128T170000
DTSTAMP:20260424T161843
CREATED:20251120T115019Z
LAST-MODIFIED:20251120T115039Z
UID:4332-1764349200-1764349200@vincicondomini.it
SUMMARY:Cond. AURORA: Assemblea Ordinaria
DESCRIPTION:I Signori Condomini sono invitati all’ Assemblea Ordinaria Condominio che si terrà il giorno: \nprima convocazione: giovedì 27/11/2025 alle ore 13.00\nSECONDA CONVOCAZIONE: VENERDì 28/11/2025 ALLE ORE 17.00 \nPresso lo Studio Vinci in Vicolo delle Saline 7/i Marsala
URL:https://vincicondomini.it/convocazione/cond-aurora-assemblea-ordinaria-4/
LOCATION:Studio Vinci\, Vicolo Delle Saline 7/ì\, Marsala\, Italia
END:VEVENT
END:VCALENDAR