BEGIN:VCALENDAR
VERSION:2.0
PRODID:-//Vinci Condomini - ECPv6.8.1//NONSGML v1.0//EN
CALSCALE:GREGORIAN
METHOD:PUBLISH
X-ORIGINAL-URL:https://vincicondomini.it
X-WR-CALDESC:Eventi per Vinci Condomini
REFRESH-INTERVAL;VALUE=DURATION:PT1H
X-Robots-Tag:noindex
X-PUBLISHED-TTL:PT1H
BEGIN:VTIMEZONE
TZID:Europe/Rome
BEGIN:DAYLIGHT
TZOFFSETFROM:+0100
TZOFFSETTO:+0200
TZNAME:CEST
DTSTART:20260329T010000
END:DAYLIGHT
BEGIN:STANDARD
TZOFFSETFROM:+0200
TZOFFSETTO:+0100
TZNAME:CET
DTSTART:20261025T010000
END:STANDARD
END:VTIMEZONE
BEGIN:VEVENT
DTSTART;TZID=Europe/Rome:20260206T160000
DTEND;TZID=Europe/Rome:20260206T160000
DTSTAMP:20260424T113609
CREATED:20260129T085946Z
LAST-MODIFIED:20260129T085946Z
UID:4406-1770393600-1770393600@vincicondomini.it
SUMMARY:Cond. BERTOLINO: Assemblea Straordinaria
DESCRIPTION:I Signori Condomini sono invitati all’ Assemblea Straordinaria Condominio che si terrà il giorno: \nprima convocazione: giovedì 05/02/2026 alle ore 13.00\nSECONDA CONVOCAZIONE: VENERDì 06/02/2026 ALLE ORE 16.00 \nPresso lo Studio Vinci in Vicolo delle Saline 7/i Marsala
URL:https://vincicondomini.it/convocazione/cond-bertolino-assemblea-straordinaria-3/
LOCATION:Studio Vinci\, Vicolo Delle Saline 7/ì\, Marsala\, Italia
END:VEVENT
END:VCALENDAR