BEGIN:VCALENDAR
VERSION:2.0
PRODID:-//Vinci Condomini - ECPv6.8.1//NONSGML v1.0//EN
CALSCALE:GREGORIAN
METHOD:PUBLISH
X-ORIGINAL-URL:https://vincicondomini.it
X-WR-CALDESC:Eventi per Vinci Condomini
REFRESH-INTERVAL;VALUE=DURATION:PT1H
X-Robots-Tag:noindex
X-PUBLISHED-TTL:PT1H
BEGIN:VTIMEZONE
TZID:Europe/Rome
BEGIN:DAYLIGHT
TZOFFSETFROM:+0100
TZOFFSETTO:+0200
TZNAME:CEST
DTSTART:20250330T010000
END:DAYLIGHT
BEGIN:STANDARD
TZOFFSETFROM:+0200
TZOFFSETTO:+0100
TZNAME:CET
DTSTART:20251026T010000
END:STANDARD
END:VTIMEZONE
BEGIN:VEVENT
DTSTART;TZID=Europe/Rome:20250701T110000
DTEND;TZID=Europe/Rome:20250701T110000
DTSTAMP:20260424T212458
CREATED:20250625T102022Z
LAST-MODIFIED:20250625T102022Z
UID:4179-1751367600-1751367600@vincicondomini.it
SUMMARY:Cond. GOLDEN RESIDENCE: Assemblea Straordinaria
DESCRIPTION:I Signori Condomini sono invitati all’ Assemblea Straordinaria Condominio che si terrà il giorno: \nprima convocazione: lunedì 30/06/2025 alle ore 13.00\nSECONDA CONVOCAZIONE: MARTEDì 01/07/2025 ALLE ORE 11.00 \nPresso lo Studio Vinci in Vicolo Delle Saline 7/i\, Marsala.
URL:https://vincicondomini.it/convocazione/cond-golden-residence-assemblea-straordinaria-3/
LOCATION:Studio Vinci\, Vicolo Delle Saline 7/ì\, Marsala\, Italia
END:VEVENT
BEGIN:VEVENT
DTSTART;TZID=Europe/Rome:20250701T180000
DTEND;TZID=Europe/Rome:20250701T180000
DTSTAMP:20260424T212458
CREATED:20250625T101637Z
LAST-MODIFIED:20250625T101637Z
UID:4177-1751392800-1751392800@vincicondomini.it
SUMMARY:Cond. LEONARDO: Assemblea Straordinaria
DESCRIPTION:I Signori Condomini sono invitati all’ Assemblea Straordinaria Condominio che si terrà il giorno: \nprima convocazione: lunedì 30/06/2025 alle ore 13.00\nSECONDA CONVOCAZIONE: MARTEDì 01/07/2025 ALLE ORE 18.00 \nPresso lo Studio Vinci in Vicolo Delle Saline 7/i\, Marsala.
URL:https://vincicondomini.it/convocazione/cond-leonardo-assemblea-straordinaria/
LOCATION:Studio Vinci\, Vicolo Delle Saline 7/ì\, Marsala\, Italia
END:VEVENT
BEGIN:VEVENT
DTSTART;TZID=Europe/Rome:20250703T180000
DTEND;TZID=Europe/Rome:20250703T180000
DTSTAMP:20260424T212458
CREATED:20250625T102411Z
LAST-MODIFIED:20250625T102411Z
UID:4181-1751565600-1751565600@vincicondomini.it
SUMMARY:Cond. LAGUNA: Assemblea Straordinaria
DESCRIPTION:I Signori Condomini sono invitati all’ Assemblea Straordinaria Condominio che si terrà il giorno: \nprima convocazione: mercoledì 02/07/2025 alle ore 13.00\nSECONDA CONVOCAZIONE: GIOVEDì 03/07/2025 ALLE ORE 18.00 \nPresso lo Studio Vinci in Vicolo Delle Saline 7/i\, Marsala.
URL:https://vincicondomini.it/convocazione/cond-laguna-assemblea-straordinaria-7/
LOCATION:Studio Vinci\, Vicolo Delle Saline 7/ì\, Marsala\, Italia
END:VEVENT
BEGIN:VEVENT
DTSTART;TZID=Europe/Rome:20250707T173000
DTEND;TZID=Europe/Rome:20250707T173000
DTSTAMP:20260424T212458
CREATED:20250630T103810Z
LAST-MODIFIED:20250630T103810Z
UID:4184-1751909400-1751909400@vincicondomini.it
SUMMARY:Cond. GRATTACIELO: Assemblea Straordinaria
DESCRIPTION:I Signori Condomini sono invitati all’ Assemblea Straordinaria Condominio che si terrà il giorno: \nprima convocazione: domenica 06/07/2025 alle ore 13.00\nSECONDA CONVOCAZIONE: LUNEDì 07/07/2025 ALLE ORE 17.30 \nPresso lo Studio Vinci in Vicolo Delle Saline 7/i\, Marsala.
URL:https://vincicondomini.it/convocazione/cond-grattacielo-assemblea-straordinaria-10/
LOCATION:Studio Vinci\, Vicolo Delle Saline 7/ì\, Marsala\, Italia
END:VEVENT
BEGIN:VEVENT
DTSTART;TZID=Europe/Rome:20250714T103000
DTEND;TZID=Europe/Rome:20250714T103000
DTSTAMP:20260424T212458
CREATED:20250707T080347Z
LAST-MODIFIED:20250707T080347Z
UID:4191-1752489000-1752489000@vincicondomini.it
SUMMARY:Cond. VERDEMARE: Assemblea Straordinaria
DESCRIPTION:I Signori Condomini sono invitati all’ Assemblea Straordinaria Condominio che si terrà il giorno: \nprima convocazione: domenica 13/07/2025 alle ore 13.00\nSECONDA CONVOCAZIONE: LUNEDì 14/07/2025 ALLE ORE 10.30 \nPresso lo Studio Vinci in Vicolo Delle Saline 7/i\, Marsala.
URL:https://vincicondomini.it/convocazione/cond-verdemare-assemblea-straordinaria-4/
LOCATION:Studio Vinci\, Vicolo Delle Saline 7/ì\, Marsala\, Italia
END:VEVENT
BEGIN:VEVENT
DTSTART;TZID=Europe/Rome:20250721T180000
DTEND;TZID=Europe/Rome:20250721T180000
DTSTAMP:20260424T212458
CREATED:20250715T110339Z
LAST-MODIFIED:20250716T105405Z
UID:4196-1753120800-1753120800@vincicondomini.it
SUMMARY:Cond. LEONARDO: Assemblea Ordinaria
DESCRIPTION:I Signori Condomini sono invitati all’ Assemblea ordinaria Condominio che si terrà il giorno: \nprima convocazione: domenica 20/07/2025 alle ore 13.00\nSECONDA CONVOCAZIONE: LUNEDì 21/07/2025 ALLE ORE 18.00 \nPresso lo Studio Vinci in Vicolo Delle Saline 7/i\, Marsala.
URL:https://vincicondomini.it/convocazione/cond-leonardo-assemblea-ordinaria/
LOCATION:Studio Vinci\, Vicolo Delle Saline 7/ì\, Marsala\, Italia
END:VEVENT
BEGIN:VEVENT
DTSTART;TZID=Europe/Rome:20250723T103000
DTEND;TZID=Europe/Rome:20250723T103000
DTSTAMP:20260424T212458
CREATED:20250715T110844Z
LAST-MODIFIED:20250715T111040Z
UID:4198-1753266600-1753266600@vincicondomini.it
SUMMARY:Cond. RESIDENCE RINA: Assemblea Ordinaria
DESCRIPTION:I Signori Condomini sono invitati all’ Assemblea ordinaria Condominio che si terrà il giorno: \nprima convocazione: martedì 22/07/2025 alle ore 13.00\nSECONDA CONVOCAZIONE: MERCOLEDì 23/07/2025 ALLE ORE 10.30 \nPresso lo Studio Vinci in Vicolo Delle Saline 7/i\, Marsala.
URL:https://vincicondomini.it/convocazione/cond-residence-rina-assemblea-ordinaria-3/
LOCATION:Studio Vinci\, Vicolo Delle Saline 7/ì\, Marsala\, Italia
END:VEVENT
BEGIN:VEVENT
DTSTART;TZID=Europe/Rome:20250730T103000
DTEND;TZID=Europe/Rome:20250730T103000
DTSTAMP:20260424T212458
CREATED:20250723T110705Z
LAST-MODIFIED:20250723T110705Z
UID:4205-1753871400-1753871400@vincicondomini.it
SUMMARY:Cond. LAGUNA: Assemblea Straordinaria
DESCRIPTION:I Signori Condomini sono invitati all’ Assemblea ordinaria Condominio che si terrà il giorno: \nprima convocazione: martedì 29/07/2025 alle ore 13.00\nSECONDA CONVOCAZIONE: MERCOLEDì 30/07/2025 ALLE ORE 10.30 \nPresso lo Studio Vinci in Vicolo Delle Saline 7/i\, Marsala.
URL:https://vincicondomini.it/convocazione/cond-laguna-assemblea-straordinaria-8/
LOCATION:Studio Vinci\, Vicolo Delle Saline 7/ì\, Marsala\, Italia
END:VEVENT
END:VCALENDAR