BEGIN:VCALENDAR
VERSION:2.0
PRODID:-//Vinci Condomini - ECPv6.8.1//NONSGML v1.0//EN
CALSCALE:GREGORIAN
METHOD:PUBLISH
X-WR-CALNAME:Vinci Condomini
X-ORIGINAL-URL:https://vincicondomini.it
X-WR-CALDESC:Eventi per Vinci Condomini
REFRESH-INTERVAL;VALUE=DURATION:PT1H
X-Robots-Tag:noindex
X-PUBLISHED-TTL:PT1H
BEGIN:VTIMEZONE
TZID:Europe/Rome
BEGIN:DAYLIGHT
TZOFFSETFROM:+0100
TZOFFSETTO:+0200
TZNAME:CEST
DTSTART:20250330T010000
END:DAYLIGHT
BEGIN:STANDARD
TZOFFSETFROM:+0200
TZOFFSETTO:+0100
TZNAME:CET
DTSTART:20251026T010000
END:STANDARD
END:VTIMEZONE
BEGIN:VEVENT
DTSTART;TZID=Europe/Rome:20250909T180000
DTEND;TZID=Europe/Rome:20250909T180000
DTSTAMP:20260424T180351
CREATED:20250826T111603Z
LAST-MODIFIED:20250901T095918Z
UID:4212-1757440800-1757440800@vincicondomini.it
SUMMARY:Cond. MEDITERRANEO: Assemblea Straordinaria
DESCRIPTION:I Signori Condomini sono invitati all’ Assemblea Straordinaria Condominio che si terrà il giorno: \nprima convocazione: lunedì 08/09/2025 alle ore 13.00\nSECONDA CONVOCAZIONE: MARTEDì 09/09/2025 ALLE ORE 18.00 \nPresso lo Studio Vinci in Vicolo Delle Saline 7/i\, Marsala.
URL:https://vincicondomini.it/convocazione/cond-mediterraneo-assemblea-straordinaria-11/
LOCATION:Studio Vinci\, Vicolo Delle Saline 7/ì\, Marsala\, Italia
END:VEVENT
BEGIN:VEVENT
DTSTART;TZID=Europe/Rome:20250911T170000
DTEND;TZID=Europe/Rome:20250911T170000
DTSTAMP:20260424T180351
CREATED:20250908T094833Z
LAST-MODIFIED:20250908T094833Z
UID:4217-1757610000-1757610000@vincicondomini.it
SUMMARY:Cond. LE SALINE: Assemblea Straordinaria
DESCRIPTION:I Signori Condomini sono invitati all’ Assemblea Straordinaria Condominio che si terrà il giorno: \nprima convocazione: mercoledì 10/09/2025 alle ore 13.00\nSECONDA CONVOCAZIONE: GIOVEDì 11/09/2025 ALLE ORE 17.00 \nPresso lo Studio Vinci in Vicolo Delle Saline 7/i\, Marsala.
URL:https://vincicondomini.it/convocazione/cond-le-saline-assemblea-straordinaria/
LOCATION:Studio Vinci\, Vicolo Delle Saline 7/ì\, Marsala\, Italia
END:VEVENT
BEGIN:VEVENT
DTSTART;TZID=Europe/Rome:20250911T180000
DTEND;TZID=Europe/Rome:20250911T180000
DTSTAMP:20260424T180351
CREATED:20250908T094957Z
LAST-MODIFIED:20250908T094957Z
UID:4219-1757613600-1757613600@vincicondomini.it
SUMMARY:Cond. AEGUSA: Assemblea Straordinaria
DESCRIPTION:I Signori Condomini sono invitati all’ Assemblea Straordinaria Condominio che si terrà il giorno: \nprima convocazione: mercoledì 10/09/2025 alle ore 13.00\nSECONDA CONVOCAZIONE: GIOVEDì 11/09/2025 ALLE ORE 18.00 \nPresso lo Studio Vinci in Vicolo Delle Saline 7/i\, Marsala.
URL:https://vincicondomini.it/convocazione/cond-aegusa-assemblea-straordinaria-3/
LOCATION:Studio Vinci\, Vicolo Delle Saline 7/ì\, Marsala\, Italia
END:VEVENT
BEGIN:VEVENT
DTSTART;TZID=Europe/Rome:20250918T173000
DTEND;TZID=Europe/Rome:20250918T173000
DTSTAMP:20260424T180351
CREATED:20250908T104018Z
LAST-MODIFIED:20250908T104018Z
UID:4223-1758216600-1758216600@vincicondomini.it
SUMMARY:Cond. EDELWEISS: Assemblea Straordinaria
DESCRIPTION:I Signori Condomini sono invitati all’ Assemblea Straordinaria Condominio che si terrà il giorno: \nprima convocazione: mercoledì 17/09/2025 alle ore 13.00\nSECONDA CONVOCAZIONE: GIOVEDì 18/09/2025 ALLE ORE 17.30 \nPresso lo Studio Vinci in Vicolo Delle Saline 7/i\, Marsala.
URL:https://vincicondomini.it/convocazione/cond-edelweiss-assemblea-straordinaria-4/
LOCATION:Studio Vinci\, Vicolo Delle Saline 7/ì\, Marsala\, Italia
END:VEVENT
BEGIN:VEVENT
DTSTART;TZID=Europe/Rome:20250925T180000
DTEND;TZID=Europe/Rome:20250925T180000
DTSTAMP:20260424T180351
CREATED:20250917T102517Z
LAST-MODIFIED:20250917T102517Z
UID:4226-1758823200-1758823200@vincicondomini.it
SUMMARY:Cond. LE SALINE: Assemblea Straordinaria
DESCRIPTION:I Signori Condomini sono invitati all’ Assemblea Straordinaria Condominio che si terrà il giorno: \nprima convocazione: mercoledì 24/09/2025 alle ore 13.00\nSECONDA CONVOCAZIONE: GIOVEDì 25/09/2025 ALLE ORE 18.00 \nPresso lo Studio Vinci in Vicolo Delle Saline 7/i\, Marsala.
URL:https://vincicondomini.it/convocazione/cond-le-saline-assemblea-straordinaria-2/
END:VEVENT
BEGIN:VEVENT
DTSTART;TZID=Europe/Rome:20250926T170000
DTEND;TZID=Europe/Rome:20250926T170000
DTSTAMP:20260424T180351
CREATED:20250917T161749Z
LAST-MODIFIED:20250917T161749Z
UID:4228-1758906000-1758906000@vincicondomini.it
SUMMARY:Cond. DUE PALME: Assemblea Straordinaria
DESCRIPTION:I Signori Condomini sono invitati all’ Assemblea Straordinaria Condominio che si terrà il giorno: \nprima convocazione: giovedì 25/09/2025 alle ore 13.00\nSECONDA CONVOCAZIONE: VENERDì 26/09/2025 ALLE ORE 17.00 \nPresso lo Studio Vinci in Vicolo Delle Saline 7/i\, Marsala.
URL:https://vincicondomini.it/convocazione/cond-due-palme-assemblea-straordinaria-4/
LOCATION:Studio Vinci\, Vicolo Delle Saline 7/ì\, Marsala\, Italia
END:VEVENT
BEGIN:VEVENT
DTSTART;TZID=Europe/Rome:20250929T173000
DTEND;TZID=Europe/Rome:20250929T173000
DTSTAMP:20260424T180351
CREATED:20250922T074940Z
LAST-MODIFIED:20250922T074940Z
UID:4230-1759167000-1759167000@vincicondomini.it
SUMMARY:Cond. TORRE SANCES: Assemblea Straordinaria
DESCRIPTION:I Signori Condomini sono invitati all’ Assemblea Straordinaria Condominio che si terrà il giorno: \nprima convocazione: giovedì 25/09/2025 alle ore 13.00\nSECONDA CONVOCAZIONE: VENERDì 26/09/2025 ALLE ORE 17.00 \nPresso la piattaforma online CISCO WEBEX.
URL:https://vincicondomini.it/convocazione/cond-torre-sances-assemblea-straordinaria-2/
LOCATION:CISCO WEBEX
END:VEVENT
END:VCALENDAR