BEGIN:VCALENDAR
VERSION:2.0
PRODID:-//Vinci Condomini - ECPv6.8.1//NONSGML v1.0//EN
CALSCALE:GREGORIAN
METHOD:PUBLISH
X-ORIGINAL-URL:https://vincicondomini.it
X-WR-CALDESC:Eventi per Vinci Condomini
REFRESH-INTERVAL;VALUE=DURATION:PT1H
X-Robots-Tag:noindex
X-PUBLISHED-TTL:PT1H
BEGIN:VTIMEZONE
TZID:Europe/Rome
BEGIN:DAYLIGHT
TZOFFSETFROM:+0100
TZOFFSETTO:+0200
TZNAME:CEST
DTSTART:20250330T010000
END:DAYLIGHT
BEGIN:STANDARD
TZOFFSETFROM:+0200
TZOFFSETTO:+0100
TZNAME:CET
DTSTART:20251026T010000
END:STANDARD
END:VTIMEZONE
BEGIN:VEVENT
DTSTART;TZID=Europe/Rome:20251001T173000
DTEND;TZID=Europe/Rome:20251001T173000
DTSTAMP:20260424T162035
CREATED:20250923T071612Z
LAST-MODIFIED:20250923T071612Z
UID:4233-1759339800-1759339800@vincicondomini.it
SUMMARY:Cond. FENIX: Assemblea Straordinaria
DESCRIPTION:I Signori Condomini sono invitati all’ Assemblea Straordinaria Condominio che si terrà il giorno: \nprima convocazione: martedì 30/09/2025 alle ore 13.00\nSECONDA CONVOCAZIONE: MERCOLEDì 01/10/2025 ALLE ORE 17.30 \nPresso lo Studio Vinci in Vicolo delle Saline 7/i Marsala
URL:https://vincicondomini.it/convocazione/cond-fenix-assemblea-straordinaria/
LOCATION:Studio Vinci\, Vicolo Delle Saline 7/ì\, Marsala\, Italia
END:VEVENT
BEGIN:VEVENT
DTSTART;TZID=Europe/Rome:20251002T180000
DTEND;TZID=Europe/Rome:20251002T180000
DTSTAMP:20260424T162035
CREATED:20250929T095441Z
LAST-MODIFIED:20250929T095441Z
UID:4240-1759428000-1759428000@vincicondomini.it
SUMMARY:Cond. LEONARDO: Assemblea Straordinaria
DESCRIPTION:I Signori Condomini sono invitati all’ Assemblea Straordinaria Condominio che si terrà il giorno: \nprima convocazione: mercoledì 01/10/2025 alle ore 13.00\nSECONDA CONVOCAZIONE: GIOVEDì 02/10/2025 ALLE ORE 18.00 \nPresso lo Studio Vinci in Vicolo delle Saline 7/i Marsala
URL:https://vincicondomini.it/convocazione/cond-leonardo-assemblea-straordinaria-2/
LOCATION:Studio Vinci\, Vicolo Delle Saline 7/ì\, Marsala\, Italia
END:VEVENT
BEGIN:VEVENT
DTSTART;TZID=Europe/Rome:20251006T173000
DTEND;TZID=Europe/Rome:20251006T173000
DTSTAMP:20260424T162035
CREATED:20250929T093604Z
LAST-MODIFIED:20250929T093604Z
UID:4238-1759771800-1759771800@vincicondomini.it
SUMMARY:Cond. IRIDE: Assemblea Straordinaria
DESCRIPTION:I Signori Condomini sono invitati all’ Assemblea Straordinaria Condominio che si terrà il giorno: \nprima convocazione: martedì 30/09/2025 alle ore 13.00\nSECONDA CONVOCAZIONE: LUNEDì 01/10/2025 ALLE ORE 17.30 \nPresso lo Studio Vinci in Vicolo delle Saline 7/i Marsala
URL:https://vincicondomini.it/convocazione/cond-iride-assemblea-straordinaria-3/
LOCATION:Studio Vinci\, Vicolo Delle Saline 7/ì\, Marsala\, Italia
END:VEVENT
BEGIN:VEVENT
DTSTART;TZID=Europe/Rome:20251008T173000
DTEND;TZID=Europe/Rome:20251008T173000
DTSTAMP:20260424T162035
CREATED:20250924T064911Z
LAST-MODIFIED:20250924T064911Z
UID:4235-1759944600-1759944600@vincicondomini.it
SUMMARY:Cond. GAP: Assemblea Straordinaria
DESCRIPTION:I Signori Condomini sono invitati all’ Assemblea Straordinaria Condominio che si terrà il giorno: \nprima convocazione: martedì 07/10/2025 alle ore 13.00\nSECONDA CONVOCAZIONE: MERCOLEDì 08/10/2025 ALLE ORE 17.30 \nPresso lo Studio Vinci in Vicolo delle Saline 7/i Marsala
URL:https://vincicondomini.it/convocazione/cond-gap-assemblea-straordinaria-3/
LOCATION:Studio Vinci\, Vicolo Delle Saline 7/ì\, Marsala\, Italia
END:VEVENT
BEGIN:VEVENT
DTSTART;TZID=Europe/Rome:20251014T173000
DTEND;TZID=Europe/Rome:20251014T173000
DTSTAMP:20260424T162035
CREATED:20251001T160159Z
LAST-MODIFIED:20251001T160159Z
UID:4255-1760463000-1760463000@vincicondomini.it
SUMMARY:Cond. LILIBEO: Assemblea Straordinaria
DESCRIPTION:I Signori Condomini sono invitati all’ Assemblea Straordinaria Condominio che si terrà il giorno: \nprima convocazione: lunedì 13/10/2025 alle ore 13.00\nSECONDA CONVOCAZIONE: MARTEDì 14/10/2025 ALLE ORE 17.30 \nPresso lo Studio Vinci in Vicolo delle Saline 7/i Marsala
URL:https://vincicondomini.it/convocazione/cond-lilibeo-assemblea-straordinaria-4/
LOCATION:Studio Vinci\, Vicolo Delle Saline 7/ì\, Marsala\, Italia
END:VEVENT
BEGIN:VEVENT
DTSTART;TZID=Europe/Rome:20251015T173000
DTEND;TZID=Europe/Rome:20251015T173000
DTSTAMP:20260424T162035
CREATED:20251003T080424Z
LAST-MODIFIED:20251003T080424Z
UID:4267-1760549400-1760549400@vincicondomini.it
SUMMARY:Cond. VILLAGGIO VERDE: Assemblea Ordinaria
DESCRIPTION:I Signori Condomini sono invitati all’ Assemblea Ordinaria Condominio che si terrà il giorno: \nprima convocazione: martedì 14/10/2025 alle ore 13.00\nSECONDA CONVOCAZIONE: MERCOLEDì 15/10/2025 ALLE ORE 17.30 \nPresso lo Studio Vinci in Vicolo delle Saline 7/i Marsala
URL:https://vincicondomini.it/convocazione/cond-villaggio-verde-assemblea-ordinaria-3/
LOCATION:Studio Vinci\, Vicolo Delle Saline 7/ì\, Marsala\, Italia
END:VEVENT
BEGIN:VEVENT
DTSTART;TZID=Europe/Rome:20251015T183000
DTEND;TZID=Europe/Rome:20251015T183000
DTSTAMP:20260424T162035
CREATED:20251009T083041Z
LAST-MODIFIED:20251009T083146Z
UID:4274-1760553000-1760553000@vincicondomini.it
SUMMARY:Cond. LAGUNA: Assemblea Straordinaria
DESCRIPTION:I Signori Condomini sono invitati all’ Assemblea Straordinaria Condominio che si terrà il giorno: \nprima convocazione: martedì 14/10/2025 alle ore 13.00\nSECONDA CONVOCAZIONE: MERCOLEDì 15/10/2025 ALLE ORE 18.30 \nPresso lo Studio Vinci in Vicolo delle Saline 7/i Marsala
URL:https://vincicondomini.it/convocazione/cond-laguna-assemblea-straordinaria-9/
LOCATION:Studio Vinci\, Vicolo Delle Saline 7/ì\, Marsala\, Italia
END:VEVENT
BEGIN:VEVENT
DTSTART;TZID=Europe/Rome:20251017T170000
DTEND;TZID=Europe/Rome:20251017T170000
DTSTAMP:20260424T162035
CREATED:20251006T165245Z
LAST-MODIFIED:20251006T165245Z
UID:4269-1760720400-1760720400@vincicondomini.it
SUMMARY:Cond. GIATTINO: Assemblea Ordinaria
DESCRIPTION:I Signori Condomini sono invitati all’ Assemblea Ordinaria Condominio che si terrà il giorno: \nprima convocazione: giovedì 16/10/2025 alle ore 13.00\nSECONDA CONVOCAZIONE: VENERDì 17/10/2025 ALLE ORE 17.00 \nPresso lo Studio Vinci in Vicolo delle Saline 7/i Marsala
URL:https://vincicondomini.it/convocazione/cond-giattino-assemblea-ordinaria-5/
LOCATION:Studio Vinci\, Vicolo Delle Saline 7/ì\, Marsala\, Italia
END:VEVENT
BEGIN:VEVENT
DTSTART;TZID=Europe/Rome:20251020T173000
DTEND;TZID=Europe/Rome:20251020T173000
DTSTAMP:20260424T162035
CREATED:20251014T101349Z
LAST-MODIFIED:20251014T101349Z
UID:4276-1760981400-1760981400@vincicondomini.it
SUMMARY:Cond. PECUNIA: Assemblea Ordinaria
DESCRIPTION:I Signori Condomini sono invitati all’ Assemblea Ordinaria Condominio che si terrà il giorno: \nprima convocazione: domenica 19/10/2025 alle ore 13.00\nSECONDA CONVOCAZIONE: LUNEDì 20/10/2025 ALLE ORE 17.30 \nPresso lo Studio Vinci in Vicolo delle Saline 7/i Marsala
URL:https://vincicondomini.it/convocazione/cond-pecunia-assemblea-ordinaria-3/
LOCATION:Studio Vinci\, Vicolo Delle Saline 7/ì\, Marsala\, Italia
END:VEVENT
BEGIN:VEVENT
DTSTART;TZID=Europe/Rome:20251022T170000
DTEND;TZID=Europe/Rome:20251022T170000
DTSTAMP:20260424T162035
CREATED:20251016T100402Z
LAST-MODIFIED:20251016T100402Z
UID:4279-1761152400-1761152400@vincicondomini.it
SUMMARY:Cond. FERRO: Assemblea Ordinaria
DESCRIPTION:I Signori Condomini sono invitati all’ Assemblea Ordinaria Condominio che si terrà il giorno: \nprima convocazione: martedì 21/10/2025 alle ore 13.00\nSECONDA CONVOCAZIONE: MERCOLEDì 22/10/2025 ALLE ORE 17.30 \nPresso lo Studio Vinci in Vicolo delle Saline 7/i Marsala
URL:https://vincicondomini.it/convocazione/cond-ferro-assemblea-ordinaria-4/
LOCATION:Studio Vinci\, Vicolo Delle Saline 7/ì\, Marsala\, Italia
END:VEVENT
BEGIN:VEVENT
DTSTART;TZID=Europe/Rome:20251027T173000
DTEND;TZID=Europe/Rome:20251027T173000
DTSTAMP:20260424T162035
CREATED:20251016T100536Z
LAST-MODIFIED:20251021T082513Z
UID:4281-1761586200-1761586200@vincicondomini.it
SUMMARY:Cond. PRATO VERDE: Assemblea Ordinaria
DESCRIPTION:I Signori Condomini sono invitati all’ Assemblea Ordinaria Condominio che si terrà il giorno: \nprima convocazione: domenica 26/10/2025 alle ore 13.00\nSECONDA CONVOCAZIONE: LUNEDì 27/10/2025 ALLE ORE 17.30 \nPresso lo Studio Vinci in Vicolo delle Saline 7/i Marsala
URL:https://vincicondomini.it/convocazione/cond-prato-verde-assemblea-ordinaria-5/
LOCATION:Studio Vinci\, Vicolo Delle Saline 7/ì\, Marsala\, Italia
END:VEVENT
BEGIN:VEVENT
DTSTART;TZID=Europe/Rome:20251029T180000
DTEND;TZID=Europe/Rome:20251029T180000
DTSTAMP:20260424T162035
CREATED:20251028T151432Z
LAST-MODIFIED:20251028T151608Z
UID:4296-1761760800-1761760800@vincicondomini.it
SUMMARY:Cond. LAGUNA: Assemblea Straordinaria
DESCRIPTION:I Signori Condomini sono invitati all’ Assemblea Straordinaria Condominio che si terrà il giorno: \nprima convocazione: martedì 28/10/2025 alle ore 13.00\nSECONDA CONVOCAZIONE: MERCOLEDì 29/10/2025 ALLE ORE 18.00 \nPresso lo Studio Vinci in Vicolo delle Saline 7/i Marsala
URL:https://vincicondomini.it/convocazione/cond-laguna-assemblea-straordinaria-10/
LOCATION:Studio Vinci\, Vicolo Delle Saline 7/ì\, Marsala\, Italia
END:VEVENT
BEGIN:VEVENT
DTSTART;TZID=Europe/Rome:20251030T173000
DTEND;TZID=Europe/Rome:20251030T173000
DTSTAMP:20260424T162035
CREATED:20251017T154758Z
LAST-MODIFIED:20251022T071529Z
UID:4284-1761845400-1761845400@vincicondomini.it
SUMMARY:Cond. AIDA: Assemblea Ordinaria
DESCRIPTION:I Signori Condomini sono invitati all’ Assemblea Ordinaria Condominio che si terrà il giorno: \nprima convocazione: mercoledì 29/10/2025 alle ore 13.00\nSECONDA CONVOCAZIONE: GIOVEDì 30/10/2025 ALLE ORE 17.30 \nPresso lo Studio Vinci in Vicolo delle Saline 7/i Marsala
URL:https://vincicondomini.it/convocazione/cond-aida-assemblea-ordinaria-6/
LOCATION:Studio Vinci\, Vicolo Delle Saline 7/ì\, Marsala\, Italia
END:VEVENT
BEGIN:VEVENT
DTSTART;TZID=Europe/Rome:20251031T170000
DTEND;TZID=Europe/Rome:20251031T170000
DTSTAMP:20260424T162035
CREATED:20251022T085557Z
LAST-MODIFIED:20251022T085704Z
UID:4287-1761930000-1761930000@vincicondomini.it
SUMMARY:Cond. GALLERIA: Assemblea Ordinaria
DESCRIPTION:I Signori Condomini sono invitati all’ Assemblea Ordinaria Condominio che si terrà il giorno: \nprima convocazione: giovedì 30/10/2025 alle ore 13.00\nSECONDA CONVOCAZIONE: VENERDì 31/10/2025 ALLE ORE 17.00 \nPresso lo Studio Vinci in Vicolo delle Saline 7/i Marsala
URL:https://vincicondomini.it/convocazione/cond-galleria-assemblea-ordinaria-7/
LOCATION:Studio Vinci\, Vicolo Delle Saline 7/ì\, Marsala\, Italia
END:VEVENT
END:VCALENDAR