BEGIN:VCALENDAR
VERSION:2.0
PRODID:-//Vinci Condomini - ECPv6.8.1//NONSGML v1.0//EN
CALSCALE:GREGORIAN
METHOD:PUBLISH
X-ORIGINAL-URL:https://vincicondomini.it
X-WR-CALDESC:Eventi per Vinci Condomini
REFRESH-INTERVAL;VALUE=DURATION:PT1H
X-Robots-Tag:noindex
X-PUBLISHED-TTL:PT1H
BEGIN:VTIMEZONE
TZID:Europe/Rome
BEGIN:DAYLIGHT
TZOFFSETFROM:+0100
TZOFFSETTO:+0200
TZNAME:CEST
DTSTART:20250330T010000
END:DAYLIGHT
BEGIN:STANDARD
TZOFFSETFROM:+0200
TZOFFSETTO:+0100
TZNAME:CET
DTSTART:20251026T010000
END:STANDARD
END:VTIMEZONE
BEGIN:VEVENT
DTSTART;TZID=Europe/Rome:20251103T173000
DTEND;TZID=Europe/Rome:20251103T173000
DTSTAMP:20260424T143829
CREATED:20251024T150959Z
LAST-MODIFIED:20251024T150959Z
UID:4290-1762191000-1762191000@vincicondomini.it
SUMMARY:Cond. PUNTA ALGA: Assemblea Ordinaria
DESCRIPTION:I Signori Condomini sono invitati all’ Assemblea Ordinaria Condominio che si terrà il giorno: \nprima convocazione: dominica 02/11/2025 alle ore 13.00\nSECONDA CONVOCAZIONE: LUNEDì 03/11/2025 ALLE ORE 17.30 \nPresso lo Studio Vinci in Vicolo delle Saline 7/i Marsala
URL:https://vincicondomini.it/convocazione/cond-punta-alga-assemblea-ordinaria-2/
LOCATION:Studio Vinci\, Vicolo Delle Saline 7/ì\, Marsala\, Italia
END:VEVENT
BEGIN:VEVENT
DTSTART;TZID=Europe/Rome:20251104T173000
DTEND;TZID=Europe/Rome:20251104T173000
DTSTAMP:20260424T143829
CREATED:20251027T091718Z
LAST-MODIFIED:20251027T091718Z
UID:4294-1762277400-1762277400@vincicondomini.it
SUMMARY:Cond. EDILROMA: Assemblea Straordinaria
DESCRIPTION:I Signori Condomini sono invitati all’ Assemblea Ordinaria Condominio che si terrà il giorno: \nprima convocazione: lunedì 03/11/2025 alle ore 13.00\nSECONDA CONVOCAZIONE: MARTEDì 04/11/2025 ALLE ORE 17.30 \nPresso lo Studio Vinci in Vicolo delle Saline 7/i Marsala
URL:https://vincicondomini.it/convocazione/cond-edilroma-assemblea-straordinaria-4/
LOCATION:Studio Vinci\, Vicolo Delle Saline 7/ì\, Marsala\, Italia
END:VEVENT
BEGIN:VEVENT
DTSTART;TZID=Europe/Rome:20251106T173000
DTEND;TZID=Europe/Rome:20251106T173000
DTSTAMP:20260424T143829
CREATED:20251031T105252Z
LAST-MODIFIED:20251031T110005Z
UID:4298-1762450200-1762450200@vincicondomini.it
SUMMARY:Cond. SOLARIA: Assemblea Ordinaria
DESCRIPTION:I Signori Condomini sono invitati all’ Assemblea Ordinaria Condominio che si terrà il giorno: \nprima convocazione: mercoledì 05/11/2025 alle ore 13.00\nSECONDA CONVOCAZIONE: GIOVEDì 06/11/2025 ALLE ORE 17.30 \nPresso lo Studio Vinci in Vicolo delle Saline 7/i Marsala
URL:https://vincicondomini.it/convocazione/cond-solaria-assemblea-ordinaria-4/
LOCATION:Studio Vinci\, Vicolo Delle Saline 7/ì\, Marsala\, Italia
END:VEVENT
BEGIN:VEVENT
DTSTART;TZID=Europe/Rome:20251112T173000
DTEND;TZID=Europe/Rome:20251112T173000
DTSTAMP:20260424T143829
CREATED:20251104T084119Z
LAST-MODIFIED:20251104T084119Z
UID:4302-1762968600-1762968600@vincicondomini.it
SUMMARY:Cond. RIZZA: Assemblea Ordinaria
DESCRIPTION:I Signori Condomini sono invitati all’ Assemblea Ordinaria Condominio che si terrà il giorno: \nprima convocazione: martedì 11/11/2025 alle ore 13.00\nSECONDA CONVOCAZIONE: MERCOLEDì 12/11/2025 ALLE ORE 17.30 \nPresso lo Studio Vinci in Vicolo delle Saline 7/i Marsala
URL:https://vincicondomini.it/convocazione/cond-rizza-assemblea-ordinaria-4/
LOCATION:Studio Vinci\, Vicolo Delle Saline 7/ì\, Marsala\, Italia
END:VEVENT
BEGIN:VEVENT
DTSTART;TZID=Europe/Rome:20251114T170000
DTEND;TZID=Europe/Rome:20251114T170000
DTSTAMP:20260424T143829
CREATED:20251110T102950Z
LAST-MODIFIED:20251110T102950Z
UID:4308-1763139600-1763139600@vincicondomini.it
SUMMARY:Cond. SMERALDO: Assemblea Ordinaria
DESCRIPTION:I Signori Condomini sono invitati all’ Assemblea Ordinaria Condominio che si terrà il giorno: \nprima convocazione: giovedì 13/11/2025 alle ore 13.00\nSECONDA CONVOCAZIONE: VENERDì 14/11/2025 ALLE ORE 17.00 \nPresso lo Studio Vinci in Vicolo delle Saline 7/i Marsala
URL:https://vincicondomini.it/convocazione/cond-smeraldo-assemblea-ordinaria-3/
LOCATION:Studio Vinci\, Vicolo Delle Saline 7/ì\, Marsala\, Italia
END:VEVENT
BEGIN:VEVENT
DTSTART;TZID=Europe/Rome:20251117T170000
DTEND;TZID=Europe/Rome:20251117T170000
DTSTAMP:20260424T143829
CREATED:20251110T120249Z
LAST-MODIFIED:20251110T120257Z
UID:4310-1763398800-1763398800@vincicondomini.it
SUMMARY:Cond. GAP: Assemblea Ordinaria
DESCRIPTION:I Signori Condomini sono invitati all’ Assemblea Ordinaria Condominio che si terrà il giorno: \nprima convocazione: domenica 16/11/2025 alle ore 13.00\nSECONDA CONVOCAZIONE: LUNEDì 17/11/2025 ALLE ORE 17.00 \nPresso lo Studio Vinci in Vicolo delle Saline 7/i Marsala
URL:https://vincicondomini.it/convocazione/cond-gap-assemblea-ordinaria-6/
LOCATION:Studio Vinci\, Vicolo Delle Saline 7/ì\, Marsala\, Italia
END:VEVENT
BEGIN:VEVENT
DTSTART;TZID=Europe/Rome:20251118T173000
DTEND;TZID=Europe/Rome:20251118T173000
DTSTAMP:20260424T143829
CREATED:20251111T155809Z
LAST-MODIFIED:20251111T155809Z
UID:4314-1763487000-1763487000@vincicondomini.it
SUMMARY:Cond. EOLO: Assemblea Ordinaria
DESCRIPTION:I Signori Condomini sono invitati all’ Assemblea Ordinaria Condominio che si terrà il giorno: \nprima convocazione: lunedì 17/11/2025 alle ore 13.00\nSECONDA CONVOCAZIONE: MARTEDì 18/11/2025 ALLE ORE 17.30 \nPresso lo Studio Vinci in Vicolo delle Saline 7/i Marsala
URL:https://vincicondomini.it/convocazione/cond-eolo-assemblea-ordinaria-4/
LOCATION:Studio Vinci\, Vicolo Delle Saline 7/ì\, Marsala\, Italia
END:VEVENT
BEGIN:VEVENT
DTSTART;TZID=Europe/Rome:20251120T173000
DTEND;TZID=Europe/Rome:20251120T173000
DTSTAMP:20260424T143829
CREATED:20251113T084615Z
LAST-MODIFIED:20251113T084615Z
UID:4316-1763659800-1763659800@vincicondomini.it
SUMMARY:Cond. GARIBALDI: Assemblea Ordinaria
DESCRIPTION:I Signori Condomini sono invitati all’ Assemblea Ordinaria Condominio che si terrà il giorno: \nprima convocazione: mercoledì 19/11/2025 alle ore 13.00\nSECONDA CONVOCAZIONE: GIOVEDì 20/11/2025 ALLE ORE 17.30 \nPresso lo Studio Vinci in Vicolo delle Saline 7/i Marsala
URL:https://vincicondomini.it/convocazione/cond-garibaldi-assemblea-ordinaria-5/
LOCATION:Studio Vinci\, Vicolo Delle Saline 7/ì\, Marsala\, Italia
END:VEVENT
BEGIN:VEVENT
DTSTART;TZID=Europe/Rome:20251124T173000
DTEND;TZID=Europe/Rome:20251124T173000
DTSTAMP:20260424T143829
CREATED:20251104T084238Z
LAST-MODIFIED:20251105T114104Z
UID:4304-1764005400-1764005400@vincicondomini.it
SUMMARY:Cond. GENNA: Assemblea Ordinaria
DESCRIPTION:I Signori Condomini sono invitati all’ Assemblea Ordinaria Condominio che si terrà il giorno: \nprima convocazione: domenica 23/11/2025 alle ore 13.00\nSECONDA CONVOCAZIONE: LUNEDì 24/11/2025 ALLE ORE 17.30 \nPresso lo Studio Vinci in Vicolo delle Saline 7/i Marsala
URL:https://vincicondomini.it/convocazione/cond-genna-assemblea-ordinaria-4/
LOCATION:Studio Vinci\, Vicolo Delle Saline 7/ì\, Marsala\, Italia
END:VEVENT
BEGIN:VEVENT
DTSTART;TZID=Europe/Rome:20251126T183000
DTEND;TZID=Europe/Rome:20251126T183000
DTSTAMP:20260424T143829
CREATED:20251119T090837Z
LAST-MODIFIED:20251125T075448Z
UID:4326-1764181800-1764181800@vincicondomini.it
SUMMARY:Cond. SALINELLA: Assemblea Ordinaria
DESCRIPTION:I Signori Condomini sono invitati all’ Assemblea Ordinaria Condominio che si terrà il giorno: \nprima convocazione: martedì 25/11/2025 alle ore 13.00\nSECONDA CONVOCAZIONE: MERCOLEDì 26/11/2025 ALLE ORE 18.30 \nPresso lo Studio Vinci in Vicolo delle Saline 7/i Marsala
URL:https://vincicondomini.it/convocazione/cond-salinella-assemblea-ordinaria-5/
LOCATION:Studio Vinci\, Vicolo Delle Saline 7/ì\, Marsala\, Italia
END:VEVENT
BEGIN:VEVENT
DTSTART;TZID=Europe/Rome:20251127T173000
DTEND;TZID=Europe/Rome:20251127T173000
DTSTAMP:20260424T143829
CREATED:20251118T100903Z
LAST-MODIFIED:20251119T163853Z
UID:4320-1764264600-1764264600@vincicondomini.it
SUMMARY:Cond. GAP: Assemblea Ordinaria
DESCRIPTION:I Signori Condomini sono invitati all’ Assemblea Ordinaria Condominio che si terrà il giorno: \nprima convocazione: mercoledì 26/11/2025 alle ore 13.00\nSECONDA CONVOCAZIONE: GIOVEDì 27/11/2025 ALLE ORE 17.30 \nPresso lo Studio Vinci in Vicolo delle Saline 7/i Marsala
URL:https://vincicondomini.it/convocazione/cond-gap-assemblea-ordinaria-7/
LOCATION:Studio Vinci\, Vicolo Delle Saline 7/ì\, Marsala\, Italia
END:VEVENT
BEGIN:VEVENT
DTSTART;TZID=Europe/Rome:20251128T170000
DTEND;TZID=Europe/Rome:20251128T170000
DTSTAMP:20260424T143829
CREATED:20251120T115019Z
LAST-MODIFIED:20251120T115039Z
UID:4332-1764349200-1764349200@vincicondomini.it
SUMMARY:Cond. AURORA: Assemblea Ordinaria
DESCRIPTION:I Signori Condomini sono invitati all’ Assemblea Ordinaria Condominio che si terrà il giorno: \nprima convocazione: giovedì 27/11/2025 alle ore 13.00\nSECONDA CONVOCAZIONE: VENERDì 28/11/2025 ALLE ORE 17.00 \nPresso lo Studio Vinci in Vicolo delle Saline 7/i Marsala
URL:https://vincicondomini.it/convocazione/cond-aurora-assemblea-ordinaria-4/
LOCATION:Studio Vinci\, Vicolo Delle Saline 7/ì\, Marsala\, Italia
END:VEVENT
END:VCALENDAR