BEGIN:VCALENDAR
VERSION:2.0
PRODID:-//Vinci Condomini - ECPv6.8.1//NONSGML v1.0//EN
CALSCALE:GREGORIAN
METHOD:PUBLISH
X-ORIGINAL-URL:https://vincicondomini.it
X-WR-CALDESC:Eventi per Vinci Condomini
REFRESH-INTERVAL;VALUE=DURATION:PT1H
X-Robots-Tag:noindex
X-PUBLISHED-TTL:PT1H
BEGIN:VTIMEZONE
TZID:Europe/Rome
BEGIN:DAYLIGHT
TZOFFSETFROM:+0100
TZOFFSETTO:+0200
TZNAME:CEST
DTSTART:20250330T010000
END:DAYLIGHT
BEGIN:STANDARD
TZOFFSETFROM:+0200
TZOFFSETTO:+0100
TZNAME:CET
DTSTART:20251026T010000
END:STANDARD
END:VTIMEZONE
BEGIN:VEVENT
DTSTART;TZID=Europe/Rome:20251201T090000
DTEND;TZID=Europe/Rome:20251201T090000
DTSTAMP:20260424T130557
CREATED:20251118T110437Z
LAST-MODIFIED:20251119T090617Z
UID:4322-1764579600-1764579600@vincicondomini.it
SUMMARY:Cond. GARRAFFA 29: Assemblea Ordinaria
DESCRIPTION:I Signori Condomini sono invitati all’ Assemblea Ordinaria di Condominio che si terrà il giorno: \nprima convocazione: domenica 30/11/2025 alle ore 13.00\nSECONDA CONVOCAZIONE: LUNEDì 01/12/2025 ALLE ORE 09.00 \nPresso lo Studio Vinci in Vicolo delle Saline 7/i Marsala
URL:https://vincicondomini.it/convocazione/cond-garraffa-29-assemblea-ordinaria-4/
LOCATION:Studio Vinci\, Vicolo Delle Saline 7/ì\, Marsala\, Italia
END:VEVENT
BEGIN:VEVENT
DTSTART;TZID=Europe/Rome:20251201T173000
DTEND;TZID=Europe/Rome:20251201T173000
DTSTAMP:20260424T130557
CREATED:20251118T080206Z
LAST-MODIFIED:20251118T080206Z
UID:4318-1764610200-1764610200@vincicondomini.it
SUMMARY:Cond. EMMOLA: Assemblea Straordinaria
DESCRIPTION:I Signori Condomini sono invitati all’ Assemblea Straordinaria Condominio che si terrà il giorno: \nprima convocazione: domenica 30/11/2025 alle ore 13.00\nSECONDA CONVOCAZIONE: LUNEDì 01/12/2025 ALLE ORE 17.30 \nPresso lo Studio Vinci in Vicolo delle Saline 7/i Marsala
URL:https://vincicondomini.it/convocazione/cond-emmola-assemblea-straordinaria-2/
LOCATION:Studio Vinci\, Vicolo Delle Saline 7/ì\, Marsala\, Italia
END:VEVENT
BEGIN:VEVENT
DTSTART;TZID=Europe/Rome:20251202T173000
DTEND;TZID=Europe/Rome:20251202T173000
DTSTAMP:20260424T130557
CREATED:20251125T161405Z
LAST-MODIFIED:20251125T161405Z
UID:4337-1764696600-1764696600@vincicondomini.it
SUMMARY:COND. CAVALLO MARINO: Assemblea Straordinaria
DESCRIPTION:I Signori Condomini sono invitati all’ Assemblea Straordinaria Condominio che si terrà il giorno: \nprima convocazione: lunedì 01/12/2025 alle ore 13.00\nSECONDA CONVOCAZIONE: MARTEDì 02/12/2025 ALLE ORE 17.30 \nPresso lo Studio Vinci in Vicolo delle Saline 7/i Marsala
URL:https://vincicondomini.it/convocazione/cond-cavallo-marino-assemblea-straordinaria-3/
LOCATION:Studio Vinci\, Vicolo Delle Saline 7/ì\, Marsala\, Italia
END:VEVENT
BEGIN:VEVENT
DTSTART;TZID=Europe/Rome:20251203T173000
DTEND;TZID=Europe/Rome:20251203T173000
DTSTAMP:20260424T130557
CREATED:20251127T082156Z
LAST-MODIFIED:20251127T082156Z
UID:4339-1764783000-1764783000@vincicondomini.it
SUMMARY:Cond. VILLA GAIA: Assemblea Straordinaria
DESCRIPTION:I Signori Condomini sono invitati all’ Assemblea Straordinaria Condominio che si terrà il giorno: \nprima convocazione: martedì 02/12/2025 alle ore 13.00\nSECONDA CONVOCAZIONE: MERCOLEDì 03/12/2025 ALLE ORE 17.30 \nPresso lo Studio Vinci in Vicolo delle Saline 7/i Marsala
URL:https://vincicondomini.it/convocazione/cond-villa-gaia-assemblea-straordinaria-8/
LOCATION:Studio Vinci\, Vicolo Delle Saline 7/ì\, Marsala\, Italia
END:VEVENT
BEGIN:VEVENT
DTSTART;TZID=Europe/Rome:20251209T173000
DTEND;TZID=Europe/Rome:20251209T173000
DTSTAMP:20260424T130557
CREATED:20251202T175155Z
LAST-MODIFIED:20251202T175155Z
UID:4342-1765301400-1765301400@vincicondomini.it
SUMMARY:Cond. EDELWEISS: Assemblea Ordinaria
DESCRIPTION:I Signori Condomini sono invitati all’ Assemblea Ordinaria Condominio che si terrà il giorno: \nprima convocazione: lunedì 08/12/2025 alle ore 13.00\nSECONDA CONVOCAZIONE: MARTEDì 09/12/2025 ALLE ORE 17.30 \nPresso lo Studio Vinci in Vicolo delle Saline 7/i Marsala
URL:https://vincicondomini.it/convocazione/cond-edelweiss-assemblea-ordinaria-5/
LOCATION:Studio Vinci\, Vicolo Delle Saline 7/ì\, Marsala\, Italia
END:VEVENT
BEGIN:VEVENT
DTSTART;TZID=Europe/Rome:20251210T173000
DTEND;TZID=Europe/Rome:20251210T173000
DTSTAMP:20260424T130557
CREATED:20251203T162811Z
LAST-MODIFIED:20251203T162811Z
UID:4344-1765387800-1765387800@vincicondomini.it
SUMMARY:Cond. BERTOLINO: Assemblea Straordinaria
DESCRIPTION:I Signori Condomini sono invitati all’ Assemblea Straordinaria Condominio che si terrà il giorno: \nprima convocazione: martedì 09/12/2025 alle ore 13.00\nSECONDA CONVOCAZIONE: MERCOLEDì 10/12/2025 ALLE ORE 17.30 \nPresso lo Studio Vinci in Vicolo delle Saline 7/i Marsala
URL:https://vincicondomini.it/convocazione/cond-bertolino-assemblea-straordinaria/
LOCATION:Studio Vinci\, Vicolo Delle Saline 7/ì\, Marsala\, Italia
END:VEVENT
BEGIN:VEVENT
DTSTART;TZID=Europe/Rome:20251211T173000
DTEND;TZID=Europe/Rome:20251211T173000
DTSTAMP:20260424T130557
CREATED:20251203T171931Z
LAST-MODIFIED:20251203T171931Z
UID:4346-1765474200-1765474200@vincicondomini.it
SUMMARY:Cond. ALBACHIARA: Assemblea Ordinaria
DESCRIPTION:I Signori Condomini sono invitati all’ Assemblea ordinaria Condominio che si terrà il giorno: \nprima convocazione: martedì 09/12/2025 alle ore 13.00\nSECONDA CONVOCAZIONE: MERCOLEDì 10/12/2025 ALLE ORE 17.30 \nPresso lo Studio Vinci in Vicolo delle Saline 7/i Marsala
URL:https://vincicondomini.it/convocazione/cond-albachiara-assemblea-ordinaria-4/
LOCATION:Studio Vinci\, Vicolo Delle Saline 7/ì\, Marsala\, Italia
END:VEVENT
BEGIN:VEVENT
DTSTART;TZID=Europe/Rome:20251215T173000
DTEND;TZID=Europe/Rome:20251215T173000
DTSTAMP:20260424T130557
CREATED:20251204T101127Z
LAST-MODIFIED:20251204T101127Z
UID:4348-1765819800-1765819800@vincicondomini.it
SUMMARY:Cond. BELVEDERE: Assemblea Ordinaria
DESCRIPTION:I Signori Condomini sono invitati all’ Assemblea ordinaria Condominio che si terrà il giorno: \nprima convocazione: domenica 14/12/2025 alle ore 13.00\nSECONDA CONVOCAZIONE: LUNEDì 15/12/2025 ALLE ORE 17.30 \nPresso lo Studio Vinci in Vicolo delle Saline 7/i Marsala
URL:https://vincicondomini.it/convocazione/cond-belvedere-assemblea-ordinaria-4/
LOCATION:Studio Vinci\, Vicolo Delle Saline 7/ì\, Marsala\, Italia
END:VEVENT
BEGIN:VEVENT
DTSTART;TZID=Europe/Rome:20251216T173000
DTEND;TZID=Europe/Rome:20251216T173000
DTSTAMP:20260424T130557
CREATED:20251205T090608Z
LAST-MODIFIED:20251205T090608Z
UID:4352-1765906200-1765906200@vincicondomini.it
SUMMARY:Cond. MASSIMO: Assemblea Ordinaria
DESCRIPTION:I Signori Condomini sono invitati all’ Assemblea ordinaria Condominio che si terrà il giorno: \nprima convocazione: lunedì 15/12/2025 alle ore 13.00\nSECONDA CONVOCAZIONE: MARTEDì 16/12/2025 ALLE ORE 17.30 \nPresso lo Studio Vinci in Vicolo delle Saline 7/i Marsala
URL:https://vincicondomini.it/convocazione/cond-massimo-assemblea-ordinaria-5/
LOCATION:Studio Vinci\, Vicolo Delle Saline 7/ì\, Marsala\, Italia
END:VEVENT
BEGIN:VEVENT
DTSTART;TZID=Europe/Rome:20251217T173000
DTEND;TZID=Europe/Rome:20251217T173000
DTSTAMP:20260424T130557
CREATED:20251205T090434Z
LAST-MODIFIED:20251205T090434Z
UID:4350-1765992600-1765992600@vincicondomini.it
SUMMARY:Cond. SIRIO: Assemblea Ordinaria
DESCRIPTION:I Signori Condomini sono invitati all’ Assemblea ordinaria Condominio che si terrà il giorno: \nprima convocazione: martedì 16/12/2025 alle ore 13.00\nSECONDA CONVOCAZIONE: MERCOLEDì 17/12/2025 ALLE ORE 17.30 \nPresso lo Studio Vinci in Vicolo delle Saline 7/i Marsala
URL:https://vincicondomini.it/convocazione/cond-sirio-assemblea-ordinaria-5/
LOCATION:Studio Vinci\, Vicolo Delle Saline 7/ì\, Marsala\, Italia
END:VEVENT
BEGIN:VEVENT
DTSTART;TZID=Europe/Rome:20251222T173000
DTEND;TZID=Europe/Rome:20251222T173000
DTSTAMP:20260424T130557
CREATED:20251209T163752Z
LAST-MODIFIED:20251209T163752Z
UID:4355-1766424600-1766424600@vincicondomini.it
SUMMARY:Cond. CORALLO: Assemblea Ordinaria
DESCRIPTION:I Signori Condomini sono invitati all’ Assemblea ordinaria Condominio che si terrà il giorno: \nprima convocazione: domenica 21/12/2025 alle ore 13.00\nSECONDA CONVOCAZIONE: LUNEDì 22/12/2025 ALLE ORE 17.30 \nPresso lo Studio Vinci in Vicolo delle Saline 7/i Marsala
URL:https://vincicondomini.it/convocazione/cond-corallo-assemblea-ordinaria-5/
LOCATION:Studio Vinci\, Vicolo Delle Saline 7/ì\, Marsala\, Italia
END:VEVENT
BEGIN:VEVENT
DTSTART;TZID=Europe/Rome:20251223T173000
DTEND;TZID=Europe/Rome:20251223T173000
DTSTAMP:20260424T130557
CREATED:20251216T173104Z
LAST-MODIFIED:20251216T173104Z
UID:4358-1766511000-1766511000@vincicondomini.it
SUMMARY:Cond. LAGUNA: Assemblea Straordinaria
DESCRIPTION:I Signori Condomini sono invitati all’ Assemblea ordinaria Condominio che si terrà il giorno: \nprima convocazione: lunedì 22/12/2025 alle ore 13.00\nSECONDA CONVOCAZIONE: MARTEDì 23/12/2025 ALLE ORE 17.30 \nPresso lo Studio Vinci in Vicolo delle Saline 7/i Marsala
URL:https://vincicondomini.it/convocazione/cond-laguna-assemblea-straordinaria-11/
LOCATION:Studio Vinci\, Vicolo Delle Saline 7/ì\, Marsala\, Italia
END:VEVENT
END:VCALENDAR