BEGIN:VCALENDAR
VERSION:2.0
PRODID:-//Vinci Condomini - ECPv6.8.1//NONSGML v1.0//EN
CALSCALE:GREGORIAN
METHOD:PUBLISH
X-ORIGINAL-URL:https://vincicondomini.it
X-WR-CALDESC:Eventi per Vinci Condomini
REFRESH-INTERVAL;VALUE=DURATION:PT1H
X-Robots-Tag:noindex
X-PUBLISHED-TTL:PT1H
BEGIN:VTIMEZONE
TZID:Europe/Rome
BEGIN:DAYLIGHT
TZOFFSETFROM:+0100
TZOFFSETTO:+0200
TZNAME:CEST
DTSTART:20260329T010000
END:DAYLIGHT
BEGIN:STANDARD
TZOFFSETFROM:+0200
TZOFFSETTO:+0100
TZNAME:CET
DTSTART:20261025T010000
END:STANDARD
END:VTIMEZONE
BEGIN:VEVENT
DTSTART;TZID=Europe/Rome:20260112T173000
DTEND;TZID=Europe/Rome:20260112T173000
DTSTAMP:20260424T112939
CREATED:20260105T103540Z
LAST-MODIFIED:20260105T103540Z
UID:4362-1768239000-1768239000@vincicondomini.it
SUMMARY:Cond. EDILROMA: Assemblea Straordinaria corpo A
DESCRIPTION:I Signori Condomini sono invitati all’ Assemblea straordinaria Condominio che si terrà il giorno: \nprima convocazione: domenica 11/01/2026 alle ore 13.00\nSECONDA CONVOCAZIONE: LUNEDì 12/01/2026 ALLE ORE 17.30 \nPresso lo Studio Vinci in Vicolo delle Saline 7/i Marsala
URL:https://vincicondomini.it/convocazione/cond-edilroma-assemblea-straordinaria-corpo-a/
LOCATION:Studio Vinci\, Vicolo Delle Saline 7/ì\, Marsala\, Italia
END:VEVENT
BEGIN:VEVENT
DTSTART;TZID=Europe/Rome:20260113T173000
DTEND;TZID=Europe/Rome:20260113T173000
DTSTAMP:20260424T112939
CREATED:20260107T102102Z
LAST-MODIFIED:20260107T102102Z
UID:4366-1768325400-1768325400@vincicondomini.it
SUMMARY:Cond. LA ROSA: Assemblea Straordinaria
DESCRIPTION:I Signori Condomini sono invitati all’ Assemblea straordinaria Condominio che si terrà il giorno: \nprima convocazione: lunedì 12/01/2026 alle ore 13.00\nSECONDA CONVOCAZIONE: MARTEDì 13/01/2026 ALLE ORE 17.30 \nPresso lo Studio Vinci in Vicolo delle Saline 7/i Marsala
URL:https://vincicondomini.it/convocazione/cond-la-rosa-assemblea-straordinaria-2/
LOCATION:Studio Vinci\, Vicolo Delle Saline 7/ì\, Marsala\, Italia
END:VEVENT
BEGIN:VEVENT
DTSTART;TZID=Europe/Rome:20260114T173000
DTEND;TZID=Europe/Rome:20260114T173000
DTSTAMP:20260424T112939
CREATED:20260108T103601Z
LAST-MODIFIED:20260108T103601Z
UID:4368-1768411800-1768411800@vincicondomini.it
SUMMARY:Cond. LAGUNA: Assemblea Straordinaria
DESCRIPTION:I Signori Condomini sono invitati all’ Assemblea straordinaria Condominio che si terrà il giorno: \nprima convocazione: martedì 13/01/2026 alle ore 13.00\nSECONDA CONVOCAZIONE: MERCOLEDì 14/01/2026 ALLE ORE 17.30 \nPresso lo Studio Vinci in Vicolo delle Saline 7/i Marsala
URL:https://vincicondomini.it/convocazione/cond-laguna-assemblea-straordinaria-12/
LOCATION:Studio Vinci\, Vicolo Delle Saline 7/ì\, Marsala\, Italia
END:VEVENT
BEGIN:VEVENT
DTSTART;TZID=Europe/Rome:20260115T173000
DTEND;TZID=Europe/Rome:20260115T173000
DTSTAMP:20260424T112939
CREATED:20260107T083759Z
LAST-MODIFIED:20260107T083759Z
UID:4364-1768498200-1768498200@vincicondomini.it
SUMMARY:Cond. GRATTACIELO: Assemblea Ordinaria
DESCRIPTION:I Signori Condomini sono invitati all’ Assemblea ordinaria Condominio che si terrà il giorno: \nprima convocazione: mercoledì 14/01/2026 alle ore 13.00\nSECONDA CONVOCAZIONE: GIOVEDì 15/01/2026 ALLE ORE 17.30 \nPresso lo Studio Vinci in Vicolo delle Saline 7/i Marsala
URL:https://vincicondomini.it/convocazione/cond-grattacielo-assemblea-ordinaria-5/
LOCATION:Studio Vinci\, Vicolo Delle Saline 7/ì\, Marsala\, Italia
END:VEVENT
BEGIN:VEVENT
DTSTART;TZID=Europe/Rome:20260116T160000
DTEND;TZID=Europe/Rome:20260116T160000
DTSTAMP:20260424T112939
CREATED:20260112T103354Z
LAST-MODIFIED:20260113T102944Z
UID:4376-1768579200-1768579200@vincicondomini.it
SUMMARY:Cond. FERRO: Assemblea Straordinaria
DESCRIPTION:I Signori Condomini sono invitati all’ Assemblea Straordinaria Condominio che si terrà il giorno: \nprima convocazione: giovedì 15/01/2026 alle ore 13.00\nSECONDA CONVOCAZIONE: VENERDì 16/01/2026 ALLE ORE 16.00 \nPresso lo Studio Vinci in Vicolo delle Saline 7/i Marsala
URL:https://vincicondomini.it/convocazione/cond-ferro-assemblea-straordinaria/
LOCATION:Studio Vinci\, Vicolo Delle Saline 7/ì\, Marsala\, Italia
END:VEVENT
BEGIN:VEVENT
DTSTART;TZID=Europe/Rome:20260120T173000
DTEND;TZID=Europe/Rome:20260120T173000
DTSTAMP:20260424T112939
CREATED:20260108T105233Z
LAST-MODIFIED:20260108T105233Z
UID:4370-1768930200-1768930200@vincicondomini.it
SUMMARY:Cond. ANDROMEDA: Assemblea Ordinaria
DESCRIPTION:I Signori Condomini sono invitati all’ Assemblea ordinaria Condominio che si terrà il giorno: \nprima convocazione: lunedì 19/01/2026 alle ore 13.00\nSECONDA CONVOCAZIONE: MARTEDì 20/01/2026 ALLE ORE 17.30 \nPresso lo Studio Vinci in Vicolo delle Saline 7/i Marsala
URL:https://vincicondomini.it/convocazione/cond-andromeda-assemblea-ordinaria-5/
LOCATION:Studio Vinci\, Vicolo Delle Saline 7/ì\, Marsala\, Italia
END:VEVENT
BEGIN:VEVENT
DTSTART;TZID=Europe/Rome:20260121T180000
DTEND;TZID=Europe/Rome:20260121T180000
DTSTAMP:20260424T112939
CREATED:20260109T092032Z
LAST-MODIFIED:20260109T092032Z
UID:4372-1769018400-1769018400@vincicondomini.it
SUMMARY:Cond. GATTO-NUZZO-MATTARELLA: Assemblea Ordinaria
DESCRIPTION:I Signori Condomini sono invitati all’ Assemblea ordinaria Condominio che si terrà il giorno: \nprima convocazione: martedì 20/01/2026 alle ore 13.00\nSECONDA CONVOCAZIONE: MERCOLEDì 21/01/2026 ALLE ORE 18.00 \nPresso lo Studio Vinci in Vicolo delle Saline 7/i Marsala
URL:https://vincicondomini.it/convocazione/cond-gatto-nuzzo-mattarella-assemblea-ordinaria-6/
LOCATION:Studio Vinci\, Vicolo Delle Saline 7/ì\, Marsala\, Italia
END:VEVENT
BEGIN:VEVENT
DTSTART;TZID=Europe/Rome:20260122T160000
DTEND;TZID=Europe/Rome:20260122T160000
DTSTAMP:20260424T112939
CREATED:20260112T102310Z
LAST-MODIFIED:20260112T102310Z
UID:4374-1769097600-1769097600@vincicondomini.it
SUMMARY:Cond. BERTOLINO: Assemblea Straordinaria
DESCRIPTION:I Signori Condomini sono invitati all’ Assemblea Straordinaria Condominio che si terrà il giorno: \nprima convocazione: mercoledì 21/01/2026 alle ore 13.00\nSECONDA CONVOCAZIONE: GIOVEDì 22/01/2026 ALLE ORE 16.00 \nPresso lo Studio Vinci in Vicolo delle Saline 7/i Marsala
URL:https://vincicondomini.it/convocazione/cond-bertolino-assemblea-straordinaria-2/
LOCATION:Studio Vinci\, Vicolo Delle Saline 7/ì\, Marsala\, Italia
END:VEVENT
BEGIN:VEVENT
DTSTART;TZID=Europe/Rome:20260122T173000
DTEND;TZID=Europe/Rome:20260122T173000
DTSTAMP:20260424T112939
CREATED:20260112T172354Z
LAST-MODIFIED:20260112T172354Z
UID:4378-1769103000-1769103000@vincicondomini.it
SUMMARY:Cond. DEI GERANI: Assemblea Ordinaria
DESCRIPTION:I Signori Condomini sono invitati all’ Assemblea ordinaria Condominio che si terrà il giorno: \nprima convocazione: mercoledì 21/01/2026 alle ore 13.00\nSECONDA CONVOCAZIONE: GIOVEDì 22/01/2026 ALLE ORE 17.30 \nPresso lo Studio Vinci in Vicolo delle Saline 7/i Marsala
URL:https://vincicondomini.it/convocazione/cond-dei-gerani-assemblea-ordinaria-5/
LOCATION:Studio Vinci\, Vicolo Delle Saline 7/ì\, Marsala\, Italia
END:VEVENT
BEGIN:VEVENT
DTSTART;TZID=Europe/Rome:20260123T170000
DTEND;TZID=Europe/Rome:20260123T170000
DTSTAMP:20260424T112939
CREATED:20260114T105805Z
LAST-MODIFIED:20260114T105805Z
UID:4382-1769187600-1769187600@vincicondomini.it
SUMMARY:Cond. SUPERGA: Assemblea Ordinaria
DESCRIPTION:I Signori Condomini sono invitati all’ Assemblea ordinaria Condominio che si terrà il giorno: \nprima convocazione: giovedì 22/01/2026 alle ore 13.00\nSECONDA CONVOCAZIONE: VENERDì 23/01/2026 ALLE ORE 17.00 \nPresso lo Studio Vinci in Vicolo delle Saline 7/i Marsala
URL:https://vincicondomini.it/convocazione/cond-superga-assemblea-ordinaria-6/
LOCATION:Studio Vinci\, Vicolo Delle Saline 7/ì\, Marsala\, Italia
END:VEVENT
BEGIN:VEVENT
DTSTART;TZID=Europe/Rome:20260123T173000
DTEND;TZID=Europe/Rome:20260123T173000
DTSTAMP:20260424T112939
CREATED:20260116T172943Z
LAST-MODIFIED:20260116T172943Z
UID:4390-1769189400-1769189400@vincicondomini.it
SUMMARY:Cond. FERRO: Assemblea Straordinaria
DESCRIPTION:I Signori Condomini sono invitati all’ Assemblea Straordinaria Condominio che si terrà il giorno: \nprima convocazione: giovedì 22/01/2026 alle ore 13.00\nSECONDA CONVOCAZIONE: VENERDì 23/01/2026 ALLE ORE 15.30 \nPresso lo Studio Vinci in Vicolo delle Saline 7/i Marsala
URL:https://vincicondomini.it/convocazione/cond-ferro-assemblea-straordinaria-2/
LOCATION:Studio Vinci\, Vicolo Delle Saline 7/ì\, Marsala\, Italia
END:VEVENT
BEGIN:VEVENT
DTSTART;TZID=Europe/Rome:20260126T160000
DTEND;TZID=Europe/Rome:20260126T160000
DTSTAMP:20260424T112939
CREATED:20260120T163409Z
LAST-MODIFIED:20260120T164428Z
UID:4392-1769443200-1769443200@vincicondomini.it
SUMMARY:Cond. GENNA: Assemblea Straordinaria
DESCRIPTION:I Signori Condomini sono invitati all’ Assemblea Straordinaria Condominio che si terrà il giorno: \nprima convocazione: domenica 25/01/2026 alle ore 13.00\nSECONDA CONVOCAZIONE: LUNEDì 26/01/2026 ALLE ORE 16.00 \nPresso lo Studio Vinci in Vicolo delle Saline 7/i Marsala
URL:https://vincicondomini.it/convocazione/cond-genna-assemblea-straordinaria-4/
LOCATION:Studio Vinci\, Vicolo Delle Saline 7/ì\, Marsala\, Italia
END:VEVENT
BEGIN:VEVENT
DTSTART;TZID=Europe/Rome:20260126T173000
DTEND;TZID=Europe/Rome:20260126T173000
DTSTAMP:20260424T112939
CREATED:20260115T094640Z
LAST-MODIFIED:20260115T094640Z
UID:4386-1769448600-1769448600@vincicondomini.it
SUMMARY:Cond. MICHELANGELO: Assemblea Ordinaria
DESCRIPTION:I Signori Condomini sono invitati all’ Assemblea ordinaria Condominio che si terrà il giorno: \nprima convocazione: domenica 25/01/2026 alle ore 13.00\nSECONDA CONVOCAZIONE: lunedì 26/01/2026 ALLE ORE 17.30 \nPresso lo Studio Vinci in Vicolo delle Saline 7/i Marsala
URL:https://vincicondomini.it/convocazione/cond-michelangelo-assemblea-ordinaria-5/
LOCATION:Studio Vinci\, Vicolo Delle Saline 7/ì\, Marsala\, Italia
END:VEVENT
BEGIN:VEVENT
DTSTART;TZID=Europe/Rome:20260127T173000
DTEND;TZID=Europe/Rome:20260127T173000
DTSTAMP:20260424T112939
CREATED:20260115T120551Z
LAST-MODIFIED:20260115T120551Z
UID:4388-1769535000-1769535000@vincicondomini.it
SUMMARY:Cond. MASSIMO: Assemblea Straordinaria
DESCRIPTION:I Signori Condomini sono invitati all’ Assemblea Straordinaria Condominio che si terrà il giorno: \nprima convocazione: lunedì 26/01/2026 alle ore 13.00\nSECONDA CONVOCAZIONE: MARTEDì 27/01/2026 ALLE ORE 17.30 \nPresso lo Studio Vinci in Vicolo delle Saline 7/i Marsala
URL:https://vincicondomini.it/convocazione/cond-massimo-assemblea-straordinaria-2/
LOCATION:Studio Vinci\, Vicolo Delle Saline 7/ì\, Marsala\, Italia
END:VEVENT
BEGIN:VEVENT
DTSTART;TZID=Europe/Rome:20260128T173000
DTEND;TZID=Europe/Rome:20260128T173000
DTSTAMP:20260424T112939
CREATED:20260120T163604Z
LAST-MODIFIED:20260121T164711Z
UID:4394-1769621400-1769621400@vincicondomini.it
SUMMARY:Cond. DOMUS AREA: Assemblea Ordinaria
DESCRIPTION:I Signori Condomini sono invitati all’ Assemblea Ordinaria Condominio che si terrà il giorno: \nprima convocazione: martedì 27/01/2026 alle ore 13.00\nSECONDA CONVOCAZIONE: MERCOLEDì 28/01/2026 ALLE ORE 17.30 \nPresso lo Studio Vinci in Vicolo delle Saline 7/i Marsala
URL:https://vincicondomini.it/convocazione/cond-diamante-assemblea-ordinaria/
LOCATION:Studio Vinci\, Vicolo Delle Saline 7/ì\, Marsala\, Italia
END:VEVENT
BEGIN:VEVENT
DTSTART;TZID=Europe/Rome:20260129T173000
DTEND;TZID=Europe/Rome:20260129T173000
DTSTAMP:20260424T112939
CREATED:20260129T080454Z
LAST-MODIFIED:20260129T080454Z
UID:4404-1769707800-1769707800@vincicondomini.it
SUMMARY:Cond. DIAMANTE: Assemblea Ordinaria
DESCRIPTION:I Signori Condomini sono invitati all’ Assemblea ordinaria Condominio che si terrà il giorno: \nprima convocazione: mercoledì 28/01/2026 alle ore 13.00\nSECONDA CONVOCAZIONE: giovedì 29/01/2026 ALLE ORE 17.30 \nPresso lo Studio Vinci in Vicolo delle Saline 7/i Marsala
URL:https://vincicondomini.it/convocazione/cond-diamante-assemblea-ordinaria-2/
LOCATION:Studio Vinci\, Vicolo Delle Saline 7/ì\, Marsala\, Italia
END:VEVENT
END:VCALENDAR